BEGIN:VCALENDAR
VERSION:2.0
PRODID:-//e-EconomY - ECPv6.15.17.1//NONSGML v1.0//EN
CALSCALE:GREGORIAN
METHOD:PUBLISH
X-WR-CALNAME:e-EconomY
X-ORIGINAL-URL:https://e-economy.biz
X-WR-CALDESC:Events for e-EconomY
REFRESH-INTERVAL;VALUE=DURATION:PT1H
X-Robots-Tag:noindex
X-PUBLISHED-TTL:PT1H
BEGIN:VTIMEZONE
TZID:Europe/Helsinki
BEGIN:DAYLIGHT
TZOFFSETFROM:+0200
TZOFFSETTO:+0300
TZNAME:EEST
DTSTART:20240331T010000
END:DAYLIGHT
BEGIN:STANDARD
TZOFFSETFROM:+0300
TZOFFSETTO:+0200
TZNAME:EET
DTSTART:20241027T010000
END:STANDARD
BEGIN:DAYLIGHT
TZOFFSETFROM:+0200
TZOFFSETTO:+0300
TZNAME:EEST
DTSTART:20250330T010000
END:DAYLIGHT
BEGIN:STANDARD
TZOFFSETFROM:+0300
TZOFFSETTO:+0200
TZNAME:EET
DTSTART:20251026T010000
END:STANDARD
BEGIN:DAYLIGHT
TZOFFSETFROM:+0200
TZOFFSETTO:+0300
TZNAME:EEST
DTSTART:20260329T010000
END:DAYLIGHT
BEGIN:STANDARD
TZOFFSETFROM:+0300
TZOFFSETTO:+0200
TZNAME:EET
DTSTART:20261025T010000
END:STANDARD
END:VTIMEZONE
BEGIN:VEVENT
DTSTART;TZID=Europe/Helsinki:20250804T110000
DTEND;TZID=Europe/Helsinki:20250804T112000
DTSTAMP:20260421T055551
CREATED:20250724T075854Z
LAST-MODIFIED:20250916T151027Z
UID:260226-1754305200-1754306400@e-economy.biz
SUMMARY:DIGITALIZACIJA
DESCRIPTION:Besplatan online promo vebinar: DIGITALIZACIJA DOKUMENATA – OBAVEZE I KAZNE \nU eri elektronskog poslovanja\, digitalizacija i arhiviranje dokumentacije više nisu izbor – već zakonska obaveza. Kako biste izbegli ozbiljne prekršajne posledice i novčane kazne koje po Zakonu mogu iznositi i do 2.000.000 dinara\, neophodno je da vaše poslovanje bude usklađeno sa aktuelnim propisima. \nNa ovom kratkom i besplatnom vebinaru\, upoznaćemo vas sa: \n\n\nosnovnim zakonskim obavezama u vezi sa digitalizacijom i arhiviranjem\, \n\n\nključnim članovima Zakona o arhivskoj građi i arhivskoj delatnosti koji propisuju izradu obaveznih akata i pravilno čuvanje arhivske građe\, \n\n\nuslovima za zakonitu elektronsku dokumentaciju u skladu sa Zakonom o elektronskom dokumentu i e-fakturisanju\, \n\n\nosnovama informacione bezbednosti i e-uprave u javnom i privatnom sektoru\, \n\n\nnajčešćim greškama koje inspekcija prepoznaje i kako ih izbeći. \n\n\nUpoznajte se sa procedurama i zakonskim rokovima za uvođenje sistema digitalizacije „ključ u ruke“ – od izrade akata do edukacije zaposlenih. \nSaznajte koje dokumente morate digitalno čuvati\, kako ih arhivirati\, koje aplikacije koristiti i šta sve podrazumeva elektronski potpis i validnost e-dokumenata. \nPridružite nam se i napravite prvi korak ka efikasnijem i zakonski usklađenom poslovanju. \n👉 Priključite se i osigurajte da vaše poslovanje bude spremno za digitalnu budućnost.
URL:https://e-economy.biz/predstojeca_edukacija/vebinar-digitalizacija/
LOCATION:Vebinar
ATTACH;FMTTYPE=image/png:https://e-economy.biz/wp-content/uploads/2025/07/ZAVRSENO.png
ORGANIZER;CN="eRIC doo":MAILTO:office@e-economy.biz
END:VEVENT
END:VCALENDAR