BEGIN:VCALENDAR
VERSION:2.0
PRODID:-//e-EconomY - ECPv6.15.17.1//NONSGML v1.0//EN
CALSCALE:GREGORIAN
METHOD:PUBLISH
X-WR-CALNAME:e-EconomY
X-ORIGINAL-URL:https://e-economy.biz
X-WR-CALDESC:Events for e-EconomY
REFRESH-INTERVAL;VALUE=DURATION:PT1H
X-Robots-Tag:noindex
X-PUBLISHED-TTL:PT1H
BEGIN:VTIMEZONE
TZID:Europe/Helsinki
BEGIN:DAYLIGHT
TZOFFSETFROM:+0200
TZOFFSETTO:+0300
TZNAME:EEST
DTSTART:20240331T010000
END:DAYLIGHT
BEGIN:STANDARD
TZOFFSETFROM:+0300
TZOFFSETTO:+0200
TZNAME:EET
DTSTART:20241027T010000
END:STANDARD
BEGIN:DAYLIGHT
TZOFFSETFROM:+0200
TZOFFSETTO:+0300
TZNAME:EEST
DTSTART:20250330T010000
END:DAYLIGHT
BEGIN:STANDARD
TZOFFSETFROM:+0300
TZOFFSETTO:+0200
TZNAME:EET
DTSTART:20251026T010000
END:STANDARD
BEGIN:DAYLIGHT
TZOFFSETFROM:+0200
TZOFFSETTO:+0300
TZNAME:EEST
DTSTART:20260329T010000
END:DAYLIGHT
BEGIN:STANDARD
TZOFFSETFROM:+0300
TZOFFSETTO:+0200
TZNAME:EET
DTSTART:20261025T010000
END:STANDARD
END:VTIMEZONE
BEGIN:VEVENT
DTSTART;VALUE=DATE:20250501
DTEND;VALUE=DATE:20250502
DTSTAMP:20260421T112755
CREATED:20250120T094124Z
LAST-MODIFIED:20250916T170415Z
UID:259540-1746057600-1746143999@e-economy.biz
SUMMARY:PRAZNIK RADA
DESCRIPTION:Praznik rada je međunarodni praznik i majski dan u pojedinim zemljama kojim pripadnici i simpatizeri radničkog pokreta iskazuju opštu solidarnost radništva i obeležavaju sećanje na dostignuća radničkog pokreta\, odnosno žrtve koje su pripadnici radničkog pokreta podneli kako bi se izborili za veća radna prava. \nPrvi maj je proglašen međunarodnim praznikom rada sa namerom obeležavanja sećanja na demonstracije radničkog pokreta 1886. godine\, održane u Čikagu. Dan rada je jedan od najrasprostranjenijih praznika na planeti. Slavi se u većini zemalja sveta. \n 
URL:https://e-economy.biz/predstojeca_edukacija/praznik-rada/
LOCATION:Državni praznik
CATEGORIES:Praznik
ATTACH;FMTTYPE=image/jpeg:https://e-economy.biz/wp-content/uploads/2025/01/1.maj_.jpg
END:VEVENT
BEGIN:VEVENT
DTSTART;VALUE=DATE:20250502
DTEND;VALUE=DATE:20250503
DTSTAMP:20260421T112755
CREATED:20250120T094240Z
LAST-MODIFIED:20250916T170408Z
UID:259543-1746144000-1746230399@e-economy.biz
SUMMARY:PRAZNIK RADA
DESCRIPTION:Praznik rada je međunarodni praznik i majski dan u pojedinim zemljama kojim pripadnici i simpatizeri radničkog pokreta iskazuju opštu solidarnost radništva i obeležavaju sećanje na dostignuća radničkog pokreta\, odnosno žrtve koje su pripadnici radničkog pokreta podneli kako bi se izborili za veća radna prava. \nPrvi maj je proglašen međunarodnim praznikom rada sa namerom obeležavanja sećanja na demonstracije radničkog pokreta 1886. godine\, održane u Čikagu. Dan rada je jedan od najrasprostranjenijih praznika na planeti. Slavi se u većini zemalja sveta. \n 
URL:https://e-economy.biz/predstojeca_edukacija/praznik-rada-neradni-dan/
LOCATION:Državni praznik
CATEGORIES:Praznik
ATTACH;FMTTYPE=image/jpeg:https://e-economy.biz/wp-content/uploads/2025/01/1.maj_.jpg
END:VEVENT
END:VCALENDAR