BEGIN:VCALENDAR
VERSION:2.0
PRODID:-//e-EconomY - ECPv6.15.17.1//NONSGML v1.0//EN
CALSCALE:GREGORIAN
METHOD:PUBLISH
X-ORIGINAL-URL:https://e-economy.biz
X-WR-CALDESC:Events for e-EconomY
REFRESH-INTERVAL;VALUE=DURATION:PT1H
X-Robots-Tag:noindex
X-PUBLISHED-TTL:PT1H
BEGIN:VTIMEZONE
TZID:Europe/Helsinki
BEGIN:DAYLIGHT
TZOFFSETFROM:+0200
TZOFFSETTO:+0300
TZNAME:EEST
DTSTART:20240331T010000
END:DAYLIGHT
BEGIN:STANDARD
TZOFFSETFROM:+0300
TZOFFSETTO:+0200
TZNAME:EET
DTSTART:20241027T010000
END:STANDARD
BEGIN:DAYLIGHT
TZOFFSETFROM:+0200
TZOFFSETTO:+0300
TZNAME:EEST
DTSTART:20250330T010000
END:DAYLIGHT
BEGIN:STANDARD
TZOFFSETFROM:+0300
TZOFFSETTO:+0200
TZNAME:EET
DTSTART:20251026T010000
END:STANDARD
BEGIN:DAYLIGHT
TZOFFSETFROM:+0200
TZOFFSETTO:+0300
TZNAME:EEST
DTSTART:20260329T010000
END:DAYLIGHT
BEGIN:STANDARD
TZOFFSETFROM:+0300
TZOFFSETTO:+0200
TZNAME:EET
DTSTART:20261025T010000
END:STANDARD
END:VTIMEZONE
BEGIN:VEVENT
DTSTART;TZID=Europe/Helsinki:20250805T110000
DTEND;TZID=Europe/Helsinki:20250805T112000
DTSTAMP:20260423T005324
CREATED:20250724T080958Z
LAST-MODIFIED:20250916T151005Z
UID:260228-1754391600-1754392800@e-economy.biz
SUMMARY:PRAVNA AKTA
DESCRIPTION:Besplatan PROMO online vebinar: Da li su vaša pravna akta zakonski usklađena? \nUpravljanje poslovnom dokumentacijom više nije samo administrativni zadatak – to je zakonska obaveza koja može direktno uticati na vašu pravnu i finansijsku bezbednost. \nNa ovom vebinaru saznaćete: \n\n\nKoja sve obavezna dokumenta morate imati u poslovanju\, a da to možda i ne znate \n\n\nKako da budete spremni za revizije\, poreske i inspekcijske nadzore\, bez stresa i neprijatnih iznenađenja \n\n\nNa koji način kontrolišemo ispravnost pravnih akata i kako izrađujemo dokumenta usklađena sa važećim zakonima \n\n\nKoji su najčešći propusti zbog kojih firme bivaju kažnjene i do nekoliko miliona dinara \n\n\nKako da prepoznate rizične tačke u svom sistemu i odmah reagujete \n\n\nMnogi privredni subjekti nisu ni svesni da ne poseduju ključnu dokumentaciju\, sve dok ne dobiju zahtev od inspekcije. U tom trenutku je – kasno za ispravke\, a kazne postaju neminovne. \nZato vas pozivamo da se pridružite našem besplatnom i praktičnom vebinaru\, na kome ćemo podeliti konkretna znanja\, primere iz prakse i korake koje možete odmah preduzeti. \nNaša stručna podrška uključuje: \n\n\nReviziju vaših pravnih akata \n\n\nIzradu nedostajuće dokumentacije \n\n\nPrilagođavanje vašeg poslovanja aktuelnim zakonskim okvirima \n\n\n👉 Ne čekajte kontrolu – budite spremni unapred!
URL:https://e-economy.biz/predstojeca_edukacija/pravna-akta-2/
LOCATION:Vebinar
ATTACH;FMTTYPE=image/png:https://e-economy.biz/wp-content/uploads/2025/07/ZAVRSENO.png
ORGANIZER;CN="eRIC doo":MAILTO:office@e-economy.biz
END:VEVENT
END:VCALENDAR